BEGIN:VCALENDAR
VERSION:2.0
PRODID:-//Tukios.com/
BEGIN:VEVENT
UID:9a68d53a-25d9-4ceb-8849-66c0e46f008c@www.gilbertfhonline.com
DTSTAMP:20260424T022342Z
DTSTART:20260425
SUMMARY:Interment
DESCRIPTION:
URL:https://www.gilbertfhonline.com/obituaries/roger-lawrence
LOCATION:Orlinda Methodist Church Cemetery Elm Springs Road  Orlinda TN 
	37141
GEO:36.5908228;-86.7013654
END:VEVENT
END:VCALENDAR