BEGIN:VCALENDAR
VERSION:2.0
PRODID:-//Tukios.com/
BEGIN:VEVENT
UID:365c7acc-e574-4742-bb21-c508e3ba3e28@www.gilbertfhonline.com
DTSTAMP:20260424T022342Z
DTSTART:20260425T160000Z
DTEND:20260425T170000Z
SUMMARY:Funeral Service
DESCRIPTION:
URL:https://www.gilbertfhonline.com/obituaries/roger-lawrence
LOCATION:Gilbert Funeral Home & Crematory 325 West Cedar Street  Franklin 
	KY 42134
GEO:36.7222061;-86.5825758
END:VEVENT
END:VCALENDAR