BEGIN:VCALENDAR
VERSION:2.0
PRODID:-//Tukios.com/
BEGIN:VEVENT
UID:43034f4f-3be5-4d66-b19b-f8494e0c53f3@www.gilbertfhonline.com
DTSTAMP:20260424T022322Z
DTSTART:20260425T110000Z
DTEND:20260425T160000Z
SUMMARY:Visitation
DESCRIPTION:
URL:https://www.gilbertfhonline.com/obituaries/roger-lawrence
LOCATION:Gilbert Funeral Home & Crematory 325 West Cedar Street  Franklin 
	KY 42134
GEO:36.7222061;-86.5825758
END:VEVENT
END:VCALENDAR