BEGIN:VCALENDAR
VERSION:2.0
PRODID:-//Tukios.com/
BEGIN:VEVENT
UID:fbbfcf11-ef05-433d-b6f9-421ecb738770@www.gilbertfhonline.com
DTSTAMP:20260424T022809Z
DTSTART:20260424T190000Z
DTEND:20260425T010000Z
SUMMARY:Visitation
DESCRIPTION:
URL:https://www.gilbertfhonline.com/obituaries/roger-lawrence
LOCATION:Gilbert Funeral Home & Crematory 325 West Cedar Street  Franklin 
	KY 42134
GEO:36.7222061;-86.5825758
END:VEVENT
END:VCALENDAR