BEGIN:VCALENDAR
VERSION:2.0
PRODID:-//Tukios.com/
BEGIN:VEVENT
UID:ef3ec729-ad01-49c2-bd47-bab138a41f75@www.gilbertfhonline.com
DTSTAMP:20260426T011614Z
DTSTART:20260428T200000Z
DTEND:20260428T210000Z
SUMMARY:Interment
DESCRIPTION:
URL:https://www.gilbertfhonline.com/obituaries/jessie-everson
LOCATION: 420 Cemetery Street  Franklin KY 42134
GEO:36.7251396;-86.5715351
END:VEVENT
END:VCALENDAR