BEGIN:VCALENDAR
VERSION:2.0
PRODID:-//Tukios.com/
BEGIN:VEVENT
UID:4804952f-2261-4ff2-bdc8-6b8c2351b331@www.gilbertfhonline.com
DTSTAMP:20260426T011557Z
DTSTART:20260428T110000Z
DTEND:20260428T190000Z
SUMMARY:Visitation
DESCRIPTION:
URL:https://www.gilbertfhonline.com/obituaries/jessie-everson
LOCATION:Gilbert Funeral Home & Crematory 325 West Cedar Street  Franklin 
	KY 42134
GEO:36.7222061;-86.5825758
END:VEVENT
END:VCALENDAR