BEGIN:VCALENDAR
VERSION:2.0
PRODID:-//Tukios.com/
BEGIN:VEVENT
UID:25e5b989-149b-4c7a-bfb7-6f77c0785500@www.gilbertfhonline.com
DTSTAMP:20260426T011753Z
DTSTART:20260427T210000Z
DTEND:20260428T010000Z
SUMMARY:Visitation
DESCRIPTION:
URL:https://www.gilbertfhonline.com/obituaries/jessie-everson
LOCATION:Gilbert Funeral Home & Crematory 325 West Cedar Street  Franklin 
	KY 42134
GEO:36.7222061;-86.5825758
END:VEVENT
END:VCALENDAR